Workbook

Sheet ütemterv
A2: MINDSZENTKÁLLA KÖZSÉG ÖNKORMÁNYZATA
A3: 2025. év
A4: előirányzat-felhasználási ÜTEMTERV
A5: (adatok Ft-ban)
A7: sor-szám | B7: A | C7: B | D7: C | E7: D | F7: E | G7: F | H7: G | I7: H | J7: I | K7: J | L7: K | M7: L | N7: M | O7: N | P7: O
A8: 1. | D8: Január | E8: Február | F8: Március | G8: Április | H8: Május | I8: Június | J8: Július | K8: Augusztus | L8: Szeptember | M8: Október | N8: November | O8: December | P8: Összesen:
A9: 2. | C9: Megnevezés
A10: 3. | B10: B1 | C10: Működési célú támogatások államháztartáson belülről | D10: 9185190 | E10: 9185190 | F10: =9185190+152472 -> 9337662 | G10: 9185190 | H10: 9185190 | I10: =9185190+467360 -> 9652550 | J10: 9185190 | K10: 9185190 | L10: 9185190 | M10: =9185190+274674 -> 9459864 | N10: 9185190 | O10: 9185197 | P10: =SUM(D10:O10) -> 111116793
A11: 4. | B11: B2 | C11: Felhalmozási célú támogatások államháztartáson belülről | L11: 7606030 | P11: =SUM(D11:O11) -> 7606030
A12: 5. | B12: B3 | C12: Közhatalmi bevételek | D12: 50000 | E12: 1530000 | F12: 2250000 | G12: 3145000 | H12: 1750000 | I12: 975000 | J12: 875000 | K12: 875000 | L12: 2250000 | M12: 1460000 | N12: 150000 | O12: 580000 | P12: =SUM(D12:O12) -> 15890000
A13: 6. | B13: B4 | C13: Működési bevételek | D13: 3282035 | E13: 3282035 | F13: 3282035 | G13: 3282035 | H13: =3282035+90351 -> 3372386 | I13: 3282035 | J13: 3282035 | K13: 3282035 | L13: 3382035 | M13: 3382035 | N13: 3382035 | O13: 3344862 | P13: =SUM(D13:O13) -> 39837598
A14: 7. | B14: B6 | C14: Működési célú átvett pénzeszközök | D14: 0 | E14: 0 | F14: 0 | G14: 5000 | H14: 20000 | I14: 0 | J14: 0 | K14: 0 | L14: 0 | M14: 50000 | N14: 0 | O14: 0 | P14: =SUM(D14:O14) -> 75000
A15: 8. | B15: B7 | C15: Felhalmozási célú átvett pénzeszközök | H15: 300000 | I15: 500000 | P15: =SUM(D15:O15) -> 800000
A16: 9. | B16: B8 | C16: Finanszírozási bevételek | D16: 1478051 | E16: 1478051 | F16: 1478051 | G16: 1478051 | H16: 1478051 | I16: 1478051 | J16: 1478051 | K16: 1478051 | L16: 1478051 | M16: 1478051 | N16: 1478051 | O16: =1478050+29576 -> 1507626 | P16: =SUM(D16:O16) -> 17766187
A17: 10. | C17: BEVÉTELEK összesen | D17: =SUM(D10:D16) -> 13995276 | E17: =SUM(E10:E16) -> 15475276 | F17: =SUM(F10:F16) -> 16347748 | G17: =SUM(G10:G16) -> 17095276 | H17: =SUM(H10:H16) -> 16105627 | I17: =SUM(I10:I16) -> 15887636 | J17: =SUM(J10:J16) -> 14820276 | K17: =SUM(K10:K16) -> 14820276 | ... P17: =SUM(P10:P16) -> 193091608
A18: 11.
A19: 12. | B19: K1 | C19: Személyi juttatás | D19: =7431457+327630 -> 7759087 | E19: 7431457 | F19: 7431457 | G19: 7431457 | H19: 7431457 | I19: 7431457 | J19: 7431028 | K19: 7531028 | L19: 7531028 | M19: 7541028 | N19: 7541028 | O19: 7540622 | P19: =SUM(D19:O19) -> 90032134
A20: 13. | B20: K2 | C20: Munkaadót terhelő járulékok | D20: 905000 | E20: 905000 | F20: 905000 | G20: 905000 | H20: 905000 | I20: 905000 | J20: 905000 | K20: 905000 | L20: 905000 | M20: 905000 | N20: 955000 | O20: 955055 | P20: =SUM(D20:O20) -> 10960055
A21: 14. | B21: K3 | C21: Dologi kiadások | D21: 4912010 | E21: 4912010 | F21: 4912010 | G21: 4912010 | H21: 4912010 | I21: 4912010 | J21: 4912010 | K21: 4912010 | L21: 4912010 | M21: 4912010 | N21: 4912010 | O21: 4912010 | P21: =SUM(D21:O21) -> 58944120
A22: 15. | B22: K4 | C22: Ellátotak pénzbeli juttatásai | D22: 40000 | E22: 110000 | F22: 100000 | G22: 120000 | H22: 50000 | I22: 0 | J22: 150000 | K22: 200000 | L22: 350000 | M22: 200000 | N22: 480000 | O22: 650000 | P22: =SUM(D22:O22) -> 2450000
A23: 16. | B23: K5 | C23: Egyéb működési célú kiadások | D23: 1392835 | E23: 1392835 | F23: 1392835 | G23: 1372835 | H23: 1352835 | I23: 1352835 | J23: 1352835 | K23: 1352835 | L23: 1352835 | M23: 1352935 | N23: 1352935 | O23: =1367958 -> 1367958 | P23: =SUM(D23:O23) -> 16389343
A24: 17. | B24: K6 | C24: Beruházások | D24: 0 | E24: 0 | F24: 300000 | G24: 100000 | H24: 486120 | I24: 0 | J24: 0 | K24: 0 | L24: 700000 | M24: 252500 | N24: 350000 | O24: 0 | P24: =SUM(D24:O24) -> 2188620
A25: 18. | B25: K7 | C25: Felújítások | D25: 0 | E25: 0 | F25: 0 | G25: 0 | K25: 7983280 | L25: 1073632 | M25: 0 | N25: 0 | O25: 0 | P25: =SUM(D25:O25) -> 9056912
A26: 19. | B26: K9 | C26: Finanszírozási kiadások | D26: 3070424 | E26: 0 | F26: 0 | G26: 0 | H26: 0 | I26: 0 | J26: 0 | K26: 0 | L26: 0 | M26: 0 | N26: 0 | O26: 0 | P26: =SUM(D26:O26) -> 3070424
A27: 20. | C27: KIADÁSOK összesen | D27: =SUM(D19:D26) -> 18079356 | E27: =SUM(E19:E26) -> 14751302 | F27: =SUM(F19:F26) -> 15041302 | G27: =SUM(G19:G26) -> 14841302 | H27: =SUM(H19:H26) -> 15137422 | I27: =SUM(I19:I26) -> 14601302 | J27: =SUM(J19:J26) -> 14750873 | K27: =SUM(K19:K26) -> 22884153 | ... P27: =SUM(P19:P26) -> 193091608

Sheet közvetett támogatások
A1: MINDSZENTKÁLLA KÖZSÉG ÖNKORMÁNYZATA
A2: 2025. évi KÖZVETETT TÁMOGATÁSOK
A4: Adónem | B4: Kedvezmény összege (Ft) | D4: Mentesség összege (Ft) | F4: Összesen (Ft)
A6: Építményadó | C6: --- | D6: 67500 | F6: =SUM(C6:D6) -> 67500
B7: (Mentes az építményadó alól: a) a magánszemély tulajdonában lévő lakás és nem lakás céljára szolgáló építmény; b) a főépülettel egy helyrajzi számú ingatlanon lévő egyéb építmény)
A8: Telekadó | C8: --- | D8: 0 | F8: =SUM(C8:D8) -> 0
D9: (beépítetlen belterületi földrész)
A10: Magánsz.kommunális adója | C10: --- | D10: 2262400 | F10: =SUM(C10:D10) -> 2262400
D11: (lakásnak minősülő 62,5%,gazdasági épület70%)
A12: Idegenforgalmi adó | C12: --- | D12: 0 | F12: 0
A14: Iparűzési adó | C14: --- | D14: --- | F14: 0
A16: Gépjárműadó | C16: 0 | D16: 0 | E16: 0 | F16: =SUM(B16:D16) -> 0
B17: ("7"-es környezetvédelmi osztályba tartozó gépjármű) | C17: ("8"-es környezetvédelmi osztályba tartozó gépjármű) | D17: Gjt. 5§ (a). Költségvetési szerv adómentessége alapján ( falugondnoki gépjármű) | E17: Gjt. 5§ (f). Mozgáskorlátozott személy szállításához használt gépjármű adómentessége alapján
A18: Összesen (ezer Ft) | B18: =SUM(B16:B17) -> 0 | C18: =SUM(C16) -> 0 | D18: =SUM(D8:D17) -> 2262400 | F18: =SUM(F8:F17) -> 2262400

Sheet áht.29A
A1: MINDSZENTKÁLLA KÖZSÉG ÖNKORMÁNYZATA
A2: 2025. évi Költségvetés Mérlege
B3: Áht.29/A.§ szerinti tervszámmal
B4: adatok forintban
B5: sorszám | C5: Kiadási jogcímek | D5: 2025. évi előirányzat | E5: 2026. évi előirányzat | F5: 2027. évi előirányzat | G5: 2028. évi előirányzat
A6: Működési bevételek összesen: | C6: Működési bevételek összesen: | D6: =SUM(D7+D8+D9+D10) -> 166919391 | E6: =SUM(E7+E8+E9+E10) -> 173050000 | F6: =SUM(F7+F8+F9+F10) -> 180050000 | G6: =SUM(G7+G8+G9+G10) -> 187050000
B7: B1 | C7: Működési célú támogatások államháztartáson belülről | D7: =ütemterv!P10 -> 111116793 | E7: 115000000 | F7: 120000000 | G7: 125000000
B8: B3 | C8: Közhatalmi bevételek | D8: =ütemterv!P12 -> 15890000 | E8: 18000000 | F8: 19000000 | G8: 20000000
B9: B4 | C9: Működési bevételek | D9: =ütemterv!P13 -> 39837598 | E9: 40000000 | F9: 41000000 | G9: 42000000
B10: B6 | C10: Működési célú átvett pénzeszközök | D10: =ütemterv!P14 -> 75000 | E10: 50000 | F10: 50000 | G10: 50000
C11: Felhalmozási bevételek összesen: | D11: =SUM(D12:D14) -> 8406030 | E11: =SUM(E12:E14) -> 0 | F11: =SUM(F12:F14) -> 0 | G11: =SUM(G12:G14) -> 0
A12: Működési kiadások összesen: | B12: B2 | C12: Felhalmozási célú támogatások államháztartáson belülről | D12: 0 | E12: 0 | F12: 0 | G12: 0
B13: B5 | C13: Felhalmozási bevételek | D13: =ütemterv!P11 -> 7606030 | E13: 0 | F13: 0 | G13: 0
B14: B7 | C14: Felhalmozási célú átvett pénzeszközök | D14: =ütemterv!P15 -> 800000 | E14: 0 | F14: 0 | G14: 0
B16: B8 | C16: Finanszírozási bevételek | D16: =ütemterv!P16 -> 17766187 | E16: 18000000 | F16: 18000000 | G16: 19000000
B18: B1-B8 | C18: BEVÉTELEK összesen: | D18: =SUM(D6+D11+D16) -> 193091608 | E18: =SUM(E6+E11+E16) -> 191050000 | F18: =SUM(F6+F11+F16) -> 198050000 | G18: =SUM(G6+G11+G16) -> 206050000
A20: Felhalmozási kiadások összesen: | C20: Működési kiadások összesen: | D20: =SUM(D21:D25) -> 178775652 | E20: =SUM(E21:E25) -> 184050000 | F20: =SUM(F21:F25) -> 190550000 | G20: =SUM(G21:G25) -> 197000000
B21: K1 | C21: Személyi juttatás | D21: =ütemterv!P19 -> 90032134 | E21: 95000000 | F21: 98000000 | G21: 102000000
B22: K2 | C22: Munkaadót terhelő járulékok | D22: =ütemterv!P20 -> 10960055 | E22: 11000000 | F22: 12000000 | G22: 13000000
B23: K3 | C23: Dologi kiadások | D23: =ütemterv!P21 -> 58944120 | E23: 59000000 | F23: 60000000 | G23: 61000000
A24: KIADÁSOK összesen: | B24: K4 | C24: Ellátotak pénzbeli juttatásai | D24: =ütemterv!P22 -> 2450000 | E24: 2000000 | F24: 2000000 | G24: 2000000
B25: K5 | C25: Egyéb működési célú kiadások | D25: =ütemterv!P23 -> 16389343 | E25: 17050000 | F25: 18550000 | G25: 19000000
C27: Felhalmozási kiadások összesen: | D27: =SUM(D28:D29,D30) -> 11245532 | E27: =SUM(E28:E29,E30) -> 3500000 | F27: =SUM(F28:F29,F30) -> 3800000 | G27: =SUM(G28:G29,G30) -> 5250000
B28: K6 | C28: Beruházások | D28: =ütemterv!P24 -> 2188620 | E28: 1000000 | F28: 1300000 | G28: 1250000
B29: K7 | C29: Felújítások | D29: =ütemterv!P25 -> 9056912 | E29: 2500000 | F29: 2500000 | G29: 4000000
B30: K8 | C30: Egyéb felhalmozási célú kiadások | D30: 0 | E30: 0 | F30: 0 | G30: 0
B32: K9 | C32: Finanszírozási kiadások | D32: =ütemterv!P26 -> 3070424 | E32: 3500000 | F32: 3700000 | G32: 3800000
B34: K1-K9 | C34: KIADÁSOK ÖSSZESEN: | D34: =SUM(D27,D20,D32) -> 193091608 | E34: =SUM(E27,E20,E32) -> 191050000 | F34: =SUM(F27,F20,F32) -> 198050000 | G34: =SUM(G27,G20,G32) -> 206050000
