Workbook

Sheet pénzeszközök változása
A2: MINDSZENTKÁLLA KÖZSÉG ÖNKORMÁNYZATA
A3: 2024. év
A4: pénzeszközözk változása
A5: (adatok Ft-ban)
A7: Ssz. | B7: Megnevezés | C7: Január | D7: Február | E7: Március | F7: Április | G7: Május | H7: Június | I7: Július | J7: Augusztus | K7: Szeptember | L7: Október | M7: November | N7: December | O7: Összesen:
A9: B1 | B9: Működési célú támogatások államháztartáson belülről | C9: 8349161 | D9: 8349161 | E9: 8349161 | F9: 8349161 | G9: 8349161 | H9: 8349161 | I9: 8349161 | J9: 8349162 | K9: 8349162 | L9: 8349162 | M9: 8349162 | N9: 8349162 | O9: =SUM(C9:N9) -> 100189937
A10: B2 | B10: Felhalmozási célú támogatások államháztartáson belülről | O10: =SUM(C10:N10) -> 0
A11: B3 | B11: Közhatalmi bevételek | C11: 50000 | D11: 1130000 | E11: 2650000 | F11: 1645000 | G11: 1700000 | H11: 1375000 | I11: 975000 | J11: 875000 | K11: 2650000 | L11: 2350000 | M11: 2070000 | N11: 483310 | O11: =SUM(C11:N11) -> 17953310
A12: B4 | B12: Működési bevételek | C12: 3619072 | D12: 3619072 | E12: 3619072 | F12: 3619072 | G12: 3619072 | H12: 3619072 | I12: 3619072 | J12: 3619072 | K12: 3619072 | L12: 3619072 | M12: 3619072 | N12: 3619072 | O12: =SUM(C12:N12) -> 43428864
A13: B5 | B13: Felhalmozási bevételek | C13: 0 | D13: 0 | E13: 0 | F13: 0 | G13: 0 | H13: 200000 | I13: 0 | J13: 0 | K13: 0 | L13: 0 | M13: 0 | N13: 0 | O13: =SUM(C13:N13) -> 200000
A14: B6 | B14: Működési célú átvett pénzeszközök | C14: 0 | D14: 888242 | E14: 0 | F14: 5000 | G14: 0 | H14: 0 | I14: 0 | J14: 0 | K14: 0 | L14: 0 | M14: 0 | N14: 0 | O14: =SUM(C14:N14) -> 893242
A15: B8 | B15: Finanszírozási bevételek | C15: 2163569 | D15: 2163569 | E15: 2163569 | F15: 2163569 | G15: 2163569 | H15: 2163569 | I15: 2163569 | J15: 2163569 | K15: 2163569 | L15: 2163569 | M15: 2163570 | N15: 2163570 | O15: =SUM(C15:N15) -> 25962830
B16: BEVÉTELEK összesen | C16: =SUM(C9:C15) -> 14181802 | D16: =SUM(D9:D15) -> 16150044 | E16: =SUM(E9:E15) -> 16781802 | F16: =SUM(F9:F15) -> 15781802 | G16: =SUM(G9:G15) -> 15831802 | H16: =SUM(H9:H15) -> 15706802 | I16: =SUM(I9:I15) -> 15106802 | J16: =SUM(J9:J15) -> 15006803 | ... O16: =SUM(O9:O15) -> 188628183
A18: K1 | B18: Személyi juttatás | C18: 6408515 | D18: 6408518 | E18: 6408518 | F18: 6408520 | G18: 6408520 | H18: 6408520 | I18: 6408520 | J18: 6408520 | K18: 6408520 | L18: 6408520 | M18: 6408520 | N18: 6408520 | O18: =SUM(C18:N18) -> 76902231
A19: K2 | B19: Munkaadót terhelő járulékok | C19: 775510 | D19: 775512 | E19: 775512 | F19: 775512 | G19: 775512 | H19: 775512 | I19: 775512 | J19: 775512 | K19: 775512 | L19: 775512 | M19: 775512 | N19: 775512 | O19: =SUM(C19:N19) -> 9306142
A20: K3 | B20: Dologi kiadások | C20: 4826695 | D20: 4826695 | E20: 4826695 | F20: 4826695 | G20: 4826695 | H20: 4826692 | I20: 4826695 | J20: 4826695 | K20: 4826695 | L20: 4826695 | M20: 4826695 | N20: 4826694 | O20: =SUM(C20:N20) -> 57920336
A21: K4 | B21: Ellátotak pénzbeli juttatásai | C21: 40000 | D21: 110000 | E21: 130000 | F21: 120000 | G21: 150000 | H21: 150000 | I21: 150000 | J21: 150000 | K21: 250000 | L21: 250000 | M21: 290000 | N21: 395380 | O21: =SUM(C21:N21) -> 2185380
A22: K5 | B22: Egyéb működési célú kiadások | C22: 1433238 | D22: 1433238 | E22: 1433239 | F22: 1433239 | G22: 1433239 | H22: 1433239 | I22: 1433239 | J22: 1433239 | K22: 1433239 | L22: 1433239 | M22: 1433239 | N22: 1433239 | O22: =SUM(C22:N22) -> 17198866
A23: K6 | B23: Beruházások | C23: 0 | F23: 0 | G23: 0 | I23: 0 | K23: 100660 | M23: 116480 | N23: 613277 | O23: =SUM(C23:N23) -> 830417
A24: K7 | B24: Felújítások | C24: 0 | D24: 0 | E24: 628000 | F24: 0 | I24: 5660964 | L24: 0 | M24: 0 | N24: 0 | O24: =SUM(C24:N24) -> 6288964
A25: K9 | B25: Finanszírozási kiadások | C25: 300000 | D25: 300000 | E25: 300000 | F25: 300000 | G25: 300000 | H25: 300000 | I25: 300000 | J25: 300000 | K25: 300000 | L25: 300000 | M25: 329660 | O25: =SUM(C25:N25) -> 3329660
B26: KIADÁSOK összesen | C26: =SUM(C18:C25) -> 13783958 | D26: =SUM(D18:D25) -> 13853963 | E26: =SUM(E18:E25) -> 14501964 | F26: =SUM(F18:F25) -> 13863966 | G26: =SUM(G18:G25) -> 13893966 | H26: =SUM(H18:H25) -> 13893963 | I26: =SUM(I18:I25) -> 19554930 | J26: =SUM(J18:J25) -> 13893966 | ... O26: =SUM(O18:O25) -> 173961996

Sheet közvetett támogatások
A1: MINDSZENTKÁLLA KÖZSÉG ÖNKORMÁNYZATA
A2: 2024. évi KÖZVETETT TÁMOGATÁSOK
A4: Adónem | B4: Kedvezmény összege (Ft) | D4: Mentesség összege (Ft) | F4: Összesen (Ft)
A6: Telekadó | C6: --- | D6: 0 | F6: =SUM(C6:D6) -> 0
D7: (beépítetlen belterületi földrész)
A8: Magánsz.kommunális adója | C8: --- | D8: 2296800 | F8: =SUM(C8:D8) -> 2296800
D9: (lakásnak minősülő 62,5%,gazdasági épület70%)
A10: Idegenforgalmi adó | C10: --- | D10: 0 | F10: 0
A12: Iparűzési adó | C12: --- | D12: --- | F12: 0
A14: Gépjárműadó | C14: 0 | D14: 0 | E14: 0 | F14: =SUM(B14:D14) -> 0
B15: ("7"-es környezetvédelmi osztályba tartozó gépjármű) | C15: ("8"-es környezetvédelmi osztályba tartozó gépjármű) | D15: Gjt. 5§ (a). Költségvetési szerv adómentessége alapján ( falugondnoki gépjármű) | E15: Gjt. 5§ (f). Mozgáskorlátozott személy szállításához használt gépjármű adómentessége alapján
A16: Összesen (ezer Ft) | B16: =SUM(B14:B15) -> 0 | C16: =SUM(C14) -> 0 | D16: =SUM(D6:D15) -> 2296800 | F16: =SUM(F6:F15) -> 2296800

Sheet áht.29A
A1: MINDSZENTKÁLLA KÖZSÉG ÖNKORMÁNYZATA
A2: 2024. évi Költségvetés Mérlege
B3: Áht.29/A.§ szerinti tervszámmal
B4: adatok forintban
C5: Kiadási jogcímek | D5: 2024. évi telejsítés | E5: 2025. évi előirányzat | F5: 2026. évi előirányzat | G5: 2027. évi előirányzat
A6: Működési bevételek összesen: | C6: Működési bevételek összesen: | D6: =SUM(D7+D8+D9+D10) -> 162465353 | E6: =SUM(E7+E8+E9+E10) -> 158050000 | F6: =SUM(F7+F8+F9+F10) -> 161050000 | G6: =SUM(G7+G8+G9+G10) -> 165050000
B7: B1 | C7: Működési célú támogatások államháztartáson belülről | D7: ='pénzeszközök változása'!O9 -> 100189937 | E7: 105000000 | F7: 107000000 | G7: 110000000
B8: B3 | C8: Közhatalmi bevételek | D8: ='pénzeszközök változása'!O11 -> 17953310 | E8: 13000000 | F8: 13000000 | G8: 13000000
B9: B4 | C9: Működési bevételek | D9: ='pénzeszközök változása'!O12 -> 43428864 | E9: 40000000 | F9: 41000000 | G9: 42000000
B10: B6 | C10: Működési célú átvett pénzeszközök | D10: ='pénzeszközök változása'!O14 -> 893242 | E10: 50000 | F10: 50000 | G10: 50000
C11: Felhalmozási bevételek összesen: | D11: =SUM(D12:D14) -> 200000 | E11: =SUM(E12:E14) -> 0 | F11: =SUM(F12:F14) -> 0 | G11: =SUM(G12:G14) -> 0
A12: Működési kiadások összesen: | B12: B2 | C12: Felhalmozási célú támogatások államháztartáson belülről | D12: 0 | E12: 0 | F12: 0 | G12: 0
B13: B5 | C13: Felhalmozási bevételek | D13: ='pénzeszközök változása'!O13 -> 200000 | E13: 0 | F13: 0 | G13: 0
B14: B7 | C14: Felhalmozási célú átvett pénzeszközök | D14: 0 | E14: 0 | F14: 0 | G14: 0
B16: B8 | C16: Finanszírozási bevételek | D16: ='pénzeszközök változása'!O15 -> 25962830 | E16: 20000000 | F16: 20000000 | G16: 20000000
B18: B1-B8 | C18: BEVÉTELEK összesen: | D18: =SUM(D6+D11+D16) -> 188628183 | E18: =SUM(E6+E11+E16) -> 178050000 | F18: =SUM(F6+F11+F16) -> 181050000 | G18: =SUM(G6+G11+G16) -> 185050000
A20: Felhalmozási kiadások összesen: | C20: Működési kiadások összesen: | D20: =SUM(D21:D25) -> 163512955 | E20: =SUM(E21:E25) -> 166950000 | F20: =SUM(F21:F25) -> 171450000 | G20: =SUM(G21:G25) -> 175450000
B21: K1 | C21: Személyi juttatás | D21: ='pénzeszközök változása'!O18 -> 76902231 | E21: 81000000 | F21: 82000000 | G21: 85000000
B22: K2 | C22: Munkaadót terhelő járulékok | D22: ='pénzeszközök változása'!O19 -> 9306142 | E22: 10000000 | F22: 10500000 | G22: 10700000
B23: K3 | C23: Dologi kiadások | D23: ='pénzeszközök változása'!O20 -> 57920336 | E23: 57000000 | F23: 58400000 | G23: 59000000
A24: KIADÁSOK összesen: | B24: K4 | C24: Ellátotak pénzbeli juttatásai | D24: ='pénzeszközök változása'!O21 -> 2185380 | E24: 2900000 | F24: 2900000 | G24: 3000000
B25: K5 | C25: Egyéb működési célú kiadások | D25: ='pénzeszközök változása'!O22 -> 17198866 | E25: 16050000 | F25: 17650000 | G25: 17750000
C27: Felhalmozási kiadások összesen: | D27: =SUM(D28:D29,D30) -> 7119381 | E27: =SUM(E28:E29,E30) -> 7500000 | F27: =SUM(F28:F29,F30) -> 6000000 | G27: =SUM(G28:G29,G30) -> 6000000
B28: K6 | C28: Beruházások | D28: ='pénzeszközök változása'!O23 -> 830417 | E28: 1500000 | F28: 1500000 | G28: 1500000
B29: K7 | C29: Felújítások | D29: ='pénzeszközök változása'!O24 -> 6288964 | E29: 6000000 | F29: 4500000 | G29: 4500000
B30: K8 | C30: Egyéb felhalmozási célú kiadások | D30: 0 | E30: 0 | F30: 0 | G30: 0
B32: K9 | C32: Finanszírozási kiadások | D32: ='pénzeszközök változása'!O25 -> 3329660 | E32: 3600000 | F32: 3600000 | G32: 3600000
B34: K1-K9 | C34: KIADÁSOK ÖSSZESEN: | D34: =SUM(D27,D20,D32) -> 173961996 | E34: =SUM(E27,E20,E32) -> 178050000 | F34: =SUM(F27,F20,F32) -> 181050000 | G34: =SUM(G27,G20,G32) -> 185050000
